BEGIN:VCALENDAR
VERSION:2.0
PRODID:spatie/icalendar-generator
DESCRIPTION:Veranstaltungen von SPD Hörstel
X-WR-CALDESC:Veranstaltungen von SPD Hörstel
REFRESH-INTERVAL;VALUE=DURATION:PT1440M
X-PUBLISHED-TTL:PT1440M
BEGIN:VTIMEZONE
TZID:Europe/Berlin
BEGIN:DAYLIGHT
DTSTART:20200329T020000Z
TZOFFSETFROM:+0100
TZOFFSETTO:+0200
END:DAYLIGHT
BEGIN:STANDARD
DTSTART:20201025T030000Z
TZOFFSETFROM:+0200
TZOFFSETTO:+0100
END:STANDARD
BEGIN:DAYLIGHT
DTSTART:20210328T020000Z
TZOFFSETFROM:+0100
TZOFFSETTO:+0200
END:DAYLIGHT
END:VTIMEZONE
BEGIN:VTIMEZONE
TZID:UTC
BEGIN:STANDARD
DTSTART:20250726T100139Z
TZOFFSETFROM:+0000
TZOFFSETTO:+0000
END:STANDARD
END:VTIMEZONE
BEGIN:VEVENT
UID:59-48
DTSTAMP:20260422T100139Z
SUMMARY:Fraktionssitzung der Ratsfraktion der SPD Hörstel
LOCATION:
ORGANIZER;CN=Oliver Janke:MAILTO:jankeoliver@gmx.net
DTSTART;TZID=Europe/Berlin:20201111T183000
DTEND;TZID=Europe/Berlin:20201111T193000
X-ALT-DESC;FMTTYPE=TEXT/HTML:An diesem Abend treffen sich sich sachkundige 
 Bürger und Ratsmitglieder der SPD im Ratssaal in Riesenbeck zur Besprechu
 ng der Vorlagen des aktuellen Sitzungsturnus sowie weiterer Punkte - bei I
 nteresse an unserer Arbeit sprecht uns gerne an!
CATEGORIES:Allgemein
URL;VALUE=URI:https://spd-hoerstel.de/mc-events/fraktionssitzung-der-ratsfr
 aktion-der-spd-hoerstel-9/
METHOD:PUBLISH
END:VEVENT
END:VCALENDAR