BEGIN:VCALENDAR
VERSION:2.0
PRODID:spatie/icalendar-generator
DESCRIPTION:Veranstaltungen von SPD Hörstel
X-WR-CALDESC:Veranstaltungen von SPD Hörstel
REFRESH-INTERVAL;VALUE=DURATION:PT1440M
X-PUBLISHED-TTL:PT1440M
BEGIN:VTIMEZONE
TZID:Europe/Berlin
BEGIN:STANDARD
DTSTART:20221030T030000Z
TZOFFSETFROM:+0200
TZOFFSETTO:+0100
END:STANDARD
BEGIN:DAYLIGHT
DTSTART:20230326T020000Z
TZOFFSETFROM:+0100
TZOFFSETTO:+0200
END:DAYLIGHT
BEGIN:STANDARD
DTSTART:20231029T030000Z
TZOFFSETFROM:+0200
TZOFFSETTO:+0100
END:STANDARD
END:VTIMEZONE
BEGIN:VTIMEZONE
TZID:UTC
BEGIN:STANDARD
DTSTART:20250725T105625Z
TZOFFSETFROM:+0000
TZOFFSETTO:+0000
END:STANDARD
END:VTIMEZONE
BEGIN:VEVENT
UID:73-61
DTSTAMP:20260421T105625Z
SUMMARY:SPD Fahrt 2023
LOCATION:
ORGANIZER;CN=kontakt@testwp.spd-hoerstel.de:MAILTO:kontakt@testwp.spd-hoers
 tel.de
DTSTART;TZID=Europe/Berlin;VALUE=DATE:20230603
DTEND;TZID=Europe/Berlin;VALUE=DATE:20230604
X-ALT-DESC;FMTTYPE=TEXT/HTML:Details werden noch bekannt gegeben.
CATEGORIES:Allgemein
URL;VALUE=URI:https://spd-hoerstel.de/mc-events/spd-fahrt-2023/
METHOD:PUBLISH
END:VEVENT
END:VCALENDAR