BEGIN:VCALENDAR
VERSION:2.0
PRODID:spatie/icalendar-generator
DESCRIPTION:Veranstaltungen von SPD Hörstel
X-WR-CALDESC:Veranstaltungen von SPD Hörstel
REFRESH-INTERVAL;VALUE=DURATION:PT1440M
X-PUBLISHED-TTL:PT1440M
BEGIN:VTIMEZONE
TZID:Europe/Berlin
BEGIN:DAYLIGHT
DTSTART:20200329T020000Z
TZOFFSETFROM:+0100
TZOFFSETTO:+0200
END:DAYLIGHT
BEGIN:STANDARD
DTSTART:20201025T030000Z
TZOFFSETFROM:+0200
TZOFFSETTO:+0100
END:STANDARD
END:VTIMEZONE
BEGIN:VTIMEZONE
TZID:UTC
BEGIN:STANDARD
DTSTART:20250729T121936Z
TZOFFSETFROM:+0000
TZOFFSETTO:+0000
END:STANDARD
END:VTIMEZONE
BEGIN:VEVENT
UID:50-39
DTSTAMP:20260425T121936Z
SUMMARY:Treffen des Ortsvereinsvorstandes
LOCATION:
ORGANIZER;CN=Oliver Janke:MAILTO:jankeoliver@gmx.net
DTSTART;TZID=Europe/Berlin:20200825T193000
DTEND;TZID=Europe/Berlin:20200825T210000
X-ALT-DESC;FMTTYPE=TEXT/HTML:An diesem Abend findet die aktuelle Vorstandss
 itzung des OV-Vorstandes statt\, u.a. um die Kommunalwahl weiter vorzubere
 iten.
CATEGORIES:Allgemein
URL;VALUE=URI:https://spd-hoerstel.de/mc-events/treffen-des-ortsvereinsvors
 tandes-6/
METHOD:PUBLISH
END:VEVENT
END:VCALENDAR